Workbook

Sheet 紀伊國屋書店
B1: ISBN | C1: 書名 | D1: タイトル和訳 | E1: 著者名 | F1: 出版年月 | G1: 版次 | I1: 出版社名 | L1: 標準価格(1) | M1: Web販売価格(1) | N1: 通貨コード(1) | O1: 価格(1) | P1: 巻号 | Q1: ページ数 | R1: KDC (1)
A2: 洋書に見る「日本」 No. 59（2026秋号） | C2: 紀伊國屋書店が選書した日本関連の洋書を定期的にご案内する好評カタログです。 | J2: ※2026年9月24日時点の価格です。 ※全ての価格は、為替レートの変動や出版社の都合などにより、変更される場合があります。
A3: 主題 | B3: ISBN | C3: 書名 | D3: タイトル和訳 | E3: 著者名 | F3: 出版年月 | G3: 版次 | H3: 装丁 | I3: 出版社名 | J3: 標準価格 (税込) | K3: Web販売価格 (税込) | L3: 標準価格(本体) | M3: Web販売価格(本体) | N3: 通貨 | O3: 外価 | P3: 巻号 | Q3: ページ数 | R3: KDC (1) | S3: BWP元リンク | T3: BWPリンク
A4: 学術・文化一般 | B4: 9780241839270 | C4: The Art of Organizing Thoughts | D4: 外山滋比古『思考の整理学』（英訳） | E4: Toyama, Shigehiko/ Morris, Arthur Reiji (TRN) | F4: 202610 | H4: ハードカバー | I4: Penguin Life | J4: 4847 | K4: 4501 | L4: 4407 | M4: 4092 | N4: GBP | O4: 14.99 | Q4: 272 p. | R4: A00 | S4: https://pro.kinokuniya.co.jp/search_detail/product?search_detail_called=1&table_kbn=E&exp_id=9780241839270 | T4: =HYPERLINK(S4,"BWP") -> BWP
A5: 書物の歴史・文化 | B5: 9789004769724 | C5: Japanese Self-Help Book Covers: Multimodal Cross-Cultural Translations | D5: 日本発の世界的ベストセラー自己啓発書『嫌われる勇気』の各国版表紙：マルチモーダル異文化間翻訳研究 | E5: Sampson, Esther | F5: 202608 | H5: ペーパーバック | I5: Brill | J5: 16791 | K5: 13511 | L5: 15265 | M5: 12283 | N5: USD | O5: 71 | Q5: 142 p. | R5: A01 | S5: https://pro.kinokuniya.co.jp/search_detail/product?search_detail_called=1&table_kbn=E&exp_id=9789004769724 | T5: =HYPERLINK(S5,"BWP") -> BWP
A6: 東洋思想 | B6: 9781041278696 | C6: Handbook of Japanese Aesthetics(Handbooks on Japanese Studies) | D6: 日本美学ハンドブック | E6: Landeck, Melinda (EDT) | F6: 202610 | H6: ハードカバー | I6: Routledge | J6: 84084 | K6: 64121 | L6: 76440 | M6: 58292 | N6: GBP | O6: 260 | Q6: 364 p.; 21 Illustrations, black and white 21 Halftones, bl | R6: A16 | S6: https://pro.kinokuniya.co.jp/search_detail/product?search_detail_called=1&table_kbn=E&exp_id=9781041278696 | T6: =HYPERLINK(S6,"BWP") -> BWP
A7: 東洋思想 | B7: 9783032307163 | C7: Tetsugaku Companion to Happiness(Tetsugaku Companions to Japanese Philosophy 9) | D7: 古田徹也（編）／日本の幸福の哲学必携 | E7: Tetsuya, Furuta (EDT) | F7: 202607 | H7: ハードカバー | I7: Springer | J7: 38496 | K7: 28474 | L7: 34997 | M7: 25886 | N7: EUR | O7: 139.99 | P7: Vol. 9 | Q7: 182 p. | R7: A16 | S7: https://pro.kinokuniya.co.jp/search_detail/product?search_detail_called=1&table_kbn=E&exp_id=9783032307163 | T7: =HYPERLINK(S7,"BWP") -> BWP
A8: 宗教心理学・超心理学・オカルト | B8: 9781350557512 | C8: Esotericism in East Asia : Cultural Interpretation and Politics | D8: 東アジアにおけるエソテリシズム：文化的解釈と政治 | E8: Chuang, Chienhui (EDT)/ Han, Sangyun (EDT)/ Strube, Julian (EDT) | F8: 202608 | H8: ハードカバー | I8: Bloomsbury Academic | J8: 27489 | K8: 22066 | L8: 24990 | M8: 20060 | N8: GBP | O8: 85 | Q8: 320 p.; 4 b&w illus | R8: A22 | S8: https://pro.kinokuniya.co.jp/search_detail/product?search_detail_called=1&table_kbn=E&exp_id=9781350557512 | T8: =HYPERLINK(S8,"BWP") -> BWP
A9: 仏教・神道・道教・儒教 | B9: 9781032588759 | C9: Death and Funeral Practices in Japan(Routledge International Focus on Death and Funeral Practices) | D9: 日本における死と葬儀 | E9: Gould, Hannah/ Miyazawa, Aki/ Yamada, Shinya | F9: 202605 | H9: ペーパーバック | I9: Routledge | J9: 8081 | K9: 6162 | L9: 7347 | M9: 5602 | N9: GBP | O9: 24.99 | Q9: 142 p.; 10 Illustrations, black and white 10 Illustrations | R9: A26 | S9: https://pro.kinokuniya.co.jp/search_detail/product?search_detail_called=1&table_kbn=E&exp_id=9781032588759 | T9: =HYPERLINK(S9,"BWP") -> BWP
A10: 仏教・神道・道教・儒教 | B10: 9781350640979 | C10: Before Shinto : Buddhism and the Japanese Gods(Bloomsbury Shinto Studies) | D10: 神道以前：仏教と日本の神々 | E10: Rambelli, Fabio | F10: 202611 | H10: ハードカバー | I10: Bloomsbury Academic | J10: 27489 | K10: 22066 | L10: 24990 | M10: 20060 | N10: GBP | O10: 85 | Q10: 280 p.; 8 bw illus | R10: A26 | S10: https://pro.kinokuniya.co.jp/search_detail/product?search_detail_called=1&table_kbn=E&exp_id=9781350640979 | T10: =HYPERLINK(S10,"BWP") -> BWP
A11: 仏教・神道・道教・儒教 | B11: 9781041279037 | C11: Handbook of Women in Japanese Buddhism(Handbooks on Japanese Studies) | D11: 日本仏教における女性ハンドブック | E11: Schrimpf, Monika (EDT)/ Simpson, Emily B. (EDT) | F11: 202608 | H11: ハードカバー | I11: Routledge | J11: 84084 | K11: 64121 | L11: 76440 | M11: 58292 | N11: GBP | O11: 260 | Q11: 318 p.; 13 Illustrations, black and white 13 Halftones, bl | R11: A26 | S11: https://pro.kinokuniya.co.jp/search_detail/product?search_detail_called=1&table_kbn=E&exp_id=9781041279037 | T11: =HYPERLINK(S11,"BWP") -> BWP
A12: 仏教・神道・道教・儒教 | B12: 9781803514260 | C12: Zen and Ghibli : Life Lessons for Lasting Happiness from the Legendary Studio | D12: 鈴木敏夫『禅とジブリ』（英訳） | E12: Suzuki, Toshio/ Cary, Beth (TRN) | F12: 202610 | H12: ハードカバー | I12: Granta Books | J12: 4847 | K12: 4501 | L12: 4407 | M12: 4092 | N12: GBP | O12: 14.99 | Q12: 256 p. | R12: A26 | S12: https://pro.kinokuniya.co.jp/search_detail/product?search_detail_called=1&table_kbn=E&exp_id=9781803514260 | T12: =HYPERLINK(S12,"BWP") -> BWP
A13: ヨーロッパ一般 | B13: 9783032253750 | C13: Anglo-East Asian Exchanges in Literature, Culture, and Media(Asia-Pacific and Literature in English) | D13: 英国と東アジアの文学・文化・メディア交流史 | E13: Windberger, Eva-Maria (EDT)/ Neder, Judith (EDT) | F13: 202607 | H13: ハードカバー | I13: Palgrave Macmillan | J13: 46746 | K13: 34577 | L13: 42497 | M13: 31434 | N13: EUR | O13: 169.99 | Q13: 336 p.; X, 336 p. 30 illus., 19 illus. in color. | R13: A40 | S13: https://pro.kinokuniya.co.jp/search_detail/product?search_detail_called=1&table_kbn=E&exp_id=9783032253750 | T13: =HYPERLINK(S13,"BWP") -> BWP
A14: ヨーロッパ／中世 | B14: 9798880702732 | C14: The Disease of Money : Japan's Monetization in the Early Middle Ages(Japan and the World) | D14: 中世日本の貿易と外貨獲得 | E14: Adolphson, Mikael S. | F14: 202609 | H14: ハードカバー | I14: University of Hawai'i Press | J14: 17737 | K14: 16417 | L14: 16125 | M14: 14925 | N14: USD | O14: 75 | Q14: 220 p.; 20 b&w illustrations, 7 maps | R14: A41 | S14: https://pro.kinokuniya.co.jp/search_detail/product?search_detail_called=1&table_kbn=E&exp_id=9798880702732 | T14: =HYPERLINK(S14,"BWP") -> BWP
A15: 日本とアジア太平洋地域一般 | B15: 9781041184171 | C15: Picturing Commerce in and from the East Asian Maritime Circuits, 1550-1800(Visual and Material Culture, 1300-1700) | D15: 図版で読む東アジア海洋貿易1550-1800年 | E15: Bentley, Tamara H. (EDT) | F15: 202512 | H15: ペーパーバック | I15: Routledge | J15: 15519 | K15: 11834 | L15: 14109 | M15: 10759 | N15: GBP | O15: 47.99 | Q15: 320 p. | R15: A60 | S15: https://pro.kinokuniya.co.jp/search_detail/product?search_detail_called=1&table_kbn=E&exp_id=9781041184171 | T15: =HYPERLINK(S15,"BWP") -> BWP
A16: 日本／開国以前 | B16: 9781009602211 | C16: Pacific Overtures : Tokugawa Outreach to Habsburg Spain, 1600-1625 | D16: 徳川政権の太平洋への進出：1600-1625年におけるハプスブルク・スペインへの働きかけ | E16: Batts, Joshua | F16: 202610 | H16: ハードカバー | I16: Cambridge University Press | J16: 35574 | K16: 28556 | L16: 32340 | M16: 25960 | N16: GBP | O16: 110 | Q16: 350 p.; Worked examples or Exercises | R16: A611 | S16: https://pro.kinokuniya.co.jp/search_detail/product?search_detail_called=1&table_kbn=E&exp_id=9781009602211 | T16: =HYPERLINK(S16,"BWP") -> BWP
A17: 日本／開国以前 | B17: 9781009602174 | C17: Pacific Overtures : Tokugawa Outreach to Habsburg Spain, 1600-1625 | D17: 徳川政権の太平洋への進出：1600-1625年におけるハプスブルク・スペインへの働きかけ | E17: Batts, Joshua | F17: 202610 | H17: ペーパーバック | I17: Cambridge University Press | J17: 12936 | K17: 10384 | L17: 11760 | M17: 9440 | N17: GBP | O17: 40 | Q17: 350 p.; Worked examples or Exercises | R17: A611 | S17: https://pro.kinokuniya.co.jp/search_detail/product?search_detail_called=1&table_kbn=E&exp_id=9781009602174 | T17: =HYPERLINK(S17,"BWP") -> BWP
A18: 日本／開国以前 | B18: 9781009624848 | C18: Japan After Dark : The Tokugawa Transformation of the Night | D18: 夜の日本：徳川期日本の夜の変容 | E18: Nenzi, Laura | F18: 202610 | H18: ハードカバー | I18: Cambridge University Press | J18: 11319 | K18: 9086 | L18: 10290 | M18: 8260 | N18: GBP | O18: 35 | Q18: 300 p.; Worked examples or Exercises | R18: A611 | S18: https://pro.kinokuniya.co.jp/search_detail/product?search_detail_called=1&table_kbn=E&exp_id=9781009624848 | T18: =HYPERLINK(S18,"BWP") -> BWP
A19: 日本／開国以前 | B19: 9781041060482 | C19: Cross-Cultural Encounters in Early Modern Japan: Foreigners Within the Samurai Class, C. 1550-1900 (New Interdisciplinary Approaches to Early Modern Culture)" | D19: 近世日本における異文化間遭遇：武士階級と交わった外国人1550-1900年 | E19: Perez, Samantha(EDT)/ Paul Smith, Matthew(EDT) | F19: 202608 | H19: ペーパーバック | I19: Routledge | J19: 14226 | K19: 10848 | L19: 12933 | M19: 9862 | N19: GBP | O19: 43.99 | Q19: 234 p. | R19: A611 | S19: https://pro.kinokuniya.co.jp/search_detail/product?search_detail_called=1&table_kbn=E&exp_id=9781041060482 | T19: =HYPERLINK(S19,"BWP") -> BWP
... A120: 経営史・各国経営事情 | B120: 9789819224470 | C120: The Dynamism of Business Transformation : Digitization of Photography and Photo Printing Business | D120: 兒玉公一郎『業界革新のダイナミズム：デジタル化と写真ビジネスの変革』（英訳） | E120: Kodama, Koichiro | F120: 202608 | H120: ハードカバー | I120: Springer | J120: 38496 | K120: 35724 | L120: 34997 | M120: 32477 | N120: EUR | O120: 139.99 | Q120: 359 p.; XII, 359 p. 78 illus., 71 illus. in color. | R120: E233 | S120: https://pro.kinokuniya.co.jp/search_detail/product?search_detail_called=1&table_kbn=E&exp_id=9789819238019 | T120: =HYPERLINK(S120,"BWP") -> BWP

Sheet アナメン詳細
A1: ISBN | B1: 入手情報 | C1: 著者名 | D1: 書名 | E1: 巻号 | F1: 版次 | G1: 装丁 | H1: 商品記述語 | I1: 出版社名 | J1: 出版国 | K1: 出版年月 | L1: 巻数 | M1: ページ数 | N1: サイズ | O1: 通貨コード(1) | P1: 価格(1) | Q1: 標準価格(1) | R1: Web販売価格(1) | S1: 特価の種別(1) | T1: 適用期限(1) | U1: 価格注記(1) | V1: 販売邦価(1) | W1: 価格識別語(1) | X1: 通貨コード(2) | Y1: 価格(2) | Z1: 標準価格(2) | AA1: Web販売価格(2) | AB1: 特価の種別(2) | AC1: 適用期限(2) | AD1: 価格注記(2) | AE1: 販売邦価(2) | AF1: 価格識別語(2) | AG1: KDC (1) | AH1: KDC (2) | AI1: KDC (3) | AJ1: KDC (4) | AK1: KDC (5) | AL1: NDC (1) | AM1: NDC (2) | AN1: NDC (3) | AO1: NDC (4) | AP1: NDC (5) | AQ1: BBC (1) | AR1: BBC (2) | AS1: BBC (3) | AT1: BBC (4) | AU1: BBC (5) | AV1: BBC (6) | AW1: BBC (7) | AX1: BBC(8) | AY1: BBC (9) | AZ1: BBC (10) | BA1: BBC (11) | BB1: BBC (12) | BC1: BBC(13) | BD1: BBC (14) | BE1: BBC (15) | BF1: SBコード(1) | BG1: SBコード(2) | BH1: SBコード(3) | BI1: SBコード(4) | BJ1: SBコード(5) | BK1: SBコード(6) | BL1: SBコード(7) | BM1: SBコード(8) | BN1: SBコード(9) | BO1: SBコード(10) | BP1: ブックニュースNO (1) | BQ1: ブックニュースNO (2) | BR1: ブックニュースNO (3) | BS1: 親シリーズKBN | BT1: タイトル和訳 | BU1: 注記 | BV1: 団体名 | BW1: 会議名 | BX1: 仕入先固有NO(EAN) | BY1: 社内在庫フラグ | BZ1: 社内在庫価格 | CA1: SDC | CB1: DDC | CC1: Academic Descriptors (1) | CD1: Academic Descriptors (2) | CE1: Subject (1) | CF1: Subject (2) | CG1: Subject (3) | CH1: Subject (4) | CI1: Subject (5) | CJ1: Academic Level
A2: 9780241839270 | C2: Toyama, Shigehiko/ Morris, Arthur Reiji (TRN) | D2: The Art of Organizing Thoughts | G2: HRD | I2: Penguin Life | J2: GB | K2: 202610 | M2: 272 p. | N2: 206mmx136mmx25mm | O2: GBP | P2: 14.99 | Q2: 4407 | R2: 4092 | AG2: A00 | AH2: C00 | AQ2: J | BF2: J202609 | BT2: 外山滋比古『思考の整理学』（英訳） | BU2: 原書（新版）： 2024年・筑摩書房 First published in 1983 and newly resonant in the age of artificial intelligence, renowned scholar and teacher Shigehiko Toyama offers a humane and timeless reminder: thinking well is a distinctly human art, and one that must be cultivated, protected, and practiced. | CA2: 102 | CB2: 158.1 | CE2: Self-actualization Psychology
A3: 9789004769724 | C3: Sampson, Esther | D3: Japanese Self-Help Book Covers: Multimodal Cross-Cultural Translations | G3: PAP | H3: pap. | I3: Brill | J3: US | K3: 202608 | M3: 142 p. | N3: 235mmx155mmx9mm | O3: USD | P3: 71 | Q3: 15265 | R3: 12283 | AG3: A01 | AH3: B114 | AI3: C210 | AQ3: J | BF3: J202609 | BT3: 日本発の世界的ベストセラー自己啓発書『嫌われる勇気』の各国版表紙：マルチモーダル異文化間翻訳研究 | BU3: Why does the same book look so different around the world? This study examines the global covers of the Japanese bestseller The Courage to Be Disliked. Using a new approach to Multimodal Discourse Analysis, it compares editions from Japan, Australia, the United Kingdom, the United States, and Canada, to ask how design shapes meaning. You will see how small visual choices-colour, layout, images, and typography-shape ideas about the “East” and the “West,” construct identities, and circulate ideology. By examining book covers as powerful paratexts, this study reveals how translation and design reshape cultural meaning across borders. | CE3: Book cover art - Cross-cultura | CF3: Book cover art | CG3: Design - Cross-cultural studie | CH3: Design | CI3: Self-help techniques - Japan
A4: 9781041278696 | C4: Landeck, Melinda (EDT) | D4: Handbook of Japanese Aesthetics(Handbooks on Japanese Studies) | G4: HRD | I4: Routledge | J4: GB | K4: 202610 | M4: 364 p.; 21 Illustrations, black and white 21 Halftones, bl | N4: 246mmx174mmx- | O4: GBP | P4: 260 | Q4: 76440 | R4: 58292 | AG4: A16 | AH4: A112 | AI4: B300 | AQ4: G | AR4: Q | AS4: J | BF4: HBJS | BG4: J202609 | BT4: 日本美学ハンドブック | BU4: This volume functions as an applied reader for core concepts in Japanese aesthetics, each situated in relationship to specific cultural products or aesthetic approaches to the creation of art ranging from Japan’s classical age to the present day. Opening with seven chapters dedicated to foundational values associated with the traditional literary and performing arts (among them, mono no aware, miyabi, ma, wabi-sabi, hie, yugen, basara, hana, and the crucial theme of seasonality), the handbook proceeds to frame aesthetic discourse through ongoing debates concerning Japan’s antiquity as well as what factors constitute modernity as interpreted through cultural practices (senshafuda), architecture (Ise Jingu), urban landscapes (neon signage and lettering), and major literary or visual a | CB4: 111.85095
A5: 9783032307163 | C5: Tetsuya, Furuta (EDT) | D5: Tetsugaku Companion to Happiness(Tetsugaku Companions to Japanese Philosophy 9) | E5: Vol. 9 | G5: HRD | I5: Springer | J5: DE | K5: 202607 | M5: 182 p. | O5: EUR | P5: 139.99 | Q5: 34997 | R5: 25886 | AG5: A16 | AQ5: G | AR5: Q | AS5: J | BF5: NA6377 | BG5: KINOPPY | BH5: J202609 | BP5: NA6377 | BS5: 109813 | BT5: 古田徹也（編）／日本の幸福の哲学必携 | BU5: This contributed volume investigates the non-Western understanding of happiness under the influence of various religions such as Buddhism, Confucianism, Shinto, and Christianity against Western thought on happiness. The chapters help clarify the particular characteristics of the concept of happiness that are unique to modern Japan. This book also reveals the regional deviations and historical determinants of the concept of happiness. The chapter authors represent an international collaboration, and thus open up new horizons for the study of the concept of happiness. This volume appeals to researchers and students working in these fields. | CC5: KNO5280
A6: 9781350557512 | C6: Chuang, Chienhui (EDT)/ Han, Sangyun (EDT)/ Strube, Julian (EDT) | D6: Esotericism in East Asia : Cultural Interpretation and Politics | G6: HRD | I6: Bloomsbury Academic | J6: GB | K6: 202608 | M6: 320 p.; 4 b&w illus | N6: 236mmx164mmx24mm | O6: GBP | P6: 85 | Q6: 24990 | R6: 20060 | AG6: A22 | AH6: A610 | AI6: A620 | AQ6: J | BF6: J202609 | BT6: 東アジアにおけるエソテリシズム：文化的解釈と政治 | BU6: This open access book critically examines how and why the language of ‘esotericism’ has become so ubiquitous in scholarship on Asian religious ideas and practices. It highlights the role of interactions between European and Asian scholars since the 16th century to show that Asian thinkers and their local contexts have crucially shaped our understanding of esotericism. With contributions focusing on a range of contexts in Japan and China, from Buddhism and Shinto to the Theosophical movement and occultism, this volume provides rich insights into how Asians have engaged with and influenced the study of esotericism across the globe. | CB6: 229.5
A7: 9781032588759 | C7: Gould, Hannah/ Miyazawa, Aki/ Yamada, Shinya | D7: Death and Funeral Practices in Japan(Routledge International Focus on Death and Funeral Practices) | G7: PAP | H7: pap. | I7: Routledge | J7: GB | K7: 202605 | M7: 142 p.; 10 Illustrations, black and white 10 Illustrations | N7: 216mmx138mmx- | O7: GBP | P7: 24.99 | Q7: 7347 | R7: 5602 | AG7: A26 | AH7: C40 | AQ7: J | BF7: J202409 | BG7: SB3226A | BH7: ANN202607 | BI7: J202609 | BT7: 日本における死と葬儀 | BU7: New in paperback. Hardcover was published in 2024. This book provides a clear and comprehensive introduction to the past, present, and future direction of death rituals and deathcare systems within Japan. The work is informed by the authors’ extensive research within Japan’s funeral, cemetery, and memorialisation sectors and the latest Japanese data sources and academic publications, not currently available in English. | CB7: 393.0952 | CE7: Death - Social aspects - Japan | CF7: Death - Social aspects | CG7: Death care industry - Japan | CH7: Death care industry | CI7: Funeral rites and ceremonies -
A8: 9781350640979 | C8: Rambelli, Fabio | D8: Before Shinto : Buddhism and the Japanese Gods(Bloomsbury Shinto Studies) | G8: HRD | I8: Bloomsbury Academic | J8: GB | K8: 202611 | M8: 280 p.; 8 bw illus | N8: 234mmx156mmx- | O8: GBP | P8: 85 | Q8: 24990 | R8: 20060 | AG8: A26 | AQ8: J | BF8: J202609 | BT8: 神道以前：仏教と日本の神々 | BU8: Focusing on the fundamental role played by Buddhism in shaping general ideas about and attitudes toward the Japanese gods (kami), this book presents a new revisionist history of Shinto.
A9: 9781041279037 | C9: Schrimpf, Monika (EDT)/ Simpson, Emily B. (EDT) | D9: Handbook of Women in Japanese Buddhism(Handbooks on Japanese Studies) | G9: HRD | I9: Routledge | J9: GB | K9: 202608 | M9: 318 p.; 13 Illustrations, black and white 13 Halftones, bl | N9: 246mmx174mmx- | O9: GBP | P9: 260 | Q9: 76440 | R9: 58292 | AG9: A26 | AH9: C144 | AQ9: Q | AR9: G | AS9: J | BF9: J202609 | BG9: HBJS | BT9: 日本仏教における女性ハンドブック | BU9: This handbook explores Buddhist women's lives and agency from ancient times to the present in Japan. The book examines lives and representations of Buddhist women by utilizing a thematic approach, with each theme representing a network of interrelated gender roles, norms and hierarchies that determine the conditions under which women lived" and "live" Buddhism." | CB9: 294.30821 | CE9: Women - Religious aspects - Bu | CF9: Women in Buddhism - Japan | CG9: Women in Buddhism | CH9: Japan
A10: 9781803514260 | C10: Suzuki, Toshio/ Cary, Beth (TRN) | D10: Zen and Ghibli : Life Lessons for Lasting Happiness from the Legendary Studio | G10: HRD | I10: Granta Books | J10: US | K10: 202610 | M10: 256 p. | N10: 198mmx129mmx- | O10: GBP | P10: 14.99 | Q10: 4407 | R10: 4092 | AG10: A26 | AH10: B34 | AQ10: J | BF10: J202609 | BT10: 鈴木敏夫『禅とジブリ』（英訳） | BU10: 原書：2018年・淡交社。スタジオジブリの映画プロデューサー鈴木敏夫と３人の禅僧（横田南嶺、細川晋輔、玄侑宗久）の対談集。 In Zen and Ghibli, legendary producer Toshio Suzuki talks about Zen Buddhism in Studio Ghibli films with three leading Buddhist monks: Shinsuke Hosokawa, Nanrei Yokota and Sokyu Gen'yu. Their playful and enlivening conversations delve into central Buddhist ideas, such as the power of not knowing, how important it is to live in the present, and whether we can ever be original in our thoughts or actions, through reference to many Ghibli masterpieces such as Princess Mononoke and Howl's Moving Castle. | CA10: 102 | CB10: 791.43683 | CE10: Animated films - Japan | CF10: Animated films | CG10: Animation Cinematography - Jap | CH10: Animation Cinematography | CI10: Zen Buddhism in motion picture
A11: 9783032253750 | C11: Windberger, Eva-Maria (EDT)/ Neder, Judith (EDT) | D11: Anglo-East Asian Exchanges in Literature, Culture, and Media(Asia-Pacific and Literature in English) | G11: HRD | I11: Palgrave Macmillan | J11: DE | K11: 202607 | M11: 336 p.; X, 336 p. 30 illus., 19 illus. in color. | O11: EUR | P11: 169.99 | Q11: 42497 | R11: 31434 | AG11: A40 | AH11: A60 | AQ11: J | BF11: J202609 | BT11: 英国と東アジアの文学・文化・メディア交流史 | BU11: This volume centres exchange as an analytical tool to conceive of Anglo-East Asian entanglements in literature, culture, and media from the eighteenth century until today. At its heart, this volume explores how transcultural exchanges have shaped the formation and self-perception of ‘eastern’ and ‘western’ identities and how these processes have been constructed, complicated, and negotiated in fiction, travel writing, philosophical and economic texts, theatre, film, music, manga, multi-media installations, and exhibitions. From the Contents: 2. The Idea of Japan in Victorian Charity Bazaars: Fundraising, Orientalism, and Transculturality in the North East of England, 1867-1912; 3.-Reclaiming the Gaze: The Feline Return Gaze in Natsume Soseki's I Am a Cat. | CC11: KNO7490
A12: 9798880702732 | C12: Adolphson, Mikael S. | D12: The Disease of Money : Japan's Monetization in the Early Middle Ages(Japan and the World) | G12: HRD | I12: University of Hawai'i Press | J12: US | K12: 202609 | M12: 220 p.; 20 b&w illustrations, 7 maps | N12: 229mmx152mmx- | O12: USD | P12: 75 | Q12: 16125 | R12: 14925 | AG12: A41 | AQ12: J | BF12: J202609 | BT12: 中世日本の貿易と外貨獲得 | CB12: 952.02
A13: 9781041184171 | C13: Bentley, Tamara H. (EDT) | D13: Picturing Commerce in and from the East Asian Maritime Circuits, 1550-1800(Visual and Material Culture, 1300-1700) | G13: PAP | H13: pap. | I13: Routledge | J13: GB | K13: 202512 | M13: 320 p. | N13: 240mmx170mmx- | O13: GBP | P13: 47.99 | Q13: 14109 | R13: 10759 | AG13: A60 | AH13: E192 | AQ13: J | BF13: J202609 | BT13: 図版で読む東アジア海洋貿易1550-1800年 | BU13: New in paperback. Hardcover was published in 2019. Combining strikingly new scholarship by art historians, historians, and ethnomusicologists, this richly-illustrated interdisciplinary volume illuminates trade ties within East Asia, and from East Asia outwards, in the years 1550 to 1800. While not encyclopedic, the selected topics greatly advance our sense of this trade picture. Visual goods are highlighted, including lacquerwares, paintings, prints, musical instruments, textiles, ivory sculptures, unfired ceramic portrait figurines, and Chinese, Japanese, Korean, and Southeast Asian ceramic vessels. | CB13: 382.095 | CE13: Commercial products - History | CF13: Commercial products - History | CG13: Material culture - History - E | CH13: Material culture - History | CI13: East Asia - Commerce - History
A14: 9781009602211 | C14: Batts, Joshua | D14: Pacific Overtures : Tokugawa Outreach to Habsburg Spain, 1600-1625 | G14: HRD | I14: Cambridge University Press | J14: GB | K14: 202610 | M14: 350 p.; Worked examples or Exercises | O14: GBP | P14: 110 | Q14: 32340 | R14: 25960 | AG14: A611 | AQ14: J | BF14: J202609 | BT14: 徳川政権の太平洋への進出：1600-1625年におけるハプスブルク・スペインへの働きかけ | BU14: Challenging accepted narratives of isolation and insularity, Joshua Batts reveals the surprising story of Tokugawa Japan's repeated attempts to establish direct trade with Spanish America. In this unique history of adventure and encounter, Batts redefines our understanding of the opportunities and obstacles of early modern globalization. | CB14: 337.5208 | CE14: Japan - History - Tokugawa per | CF14: Japan - Foreign economic relat | CG14: Japan - Foreign economic relat | CH14: Japan | CI14: Latin America - History - To 1
A15: 9781009602174 | C15: Batts, Joshua | D15: Pacific Overtures : Tokugawa Outreach to Habsburg Spain, 1600-1625 | G15: PAP | H15: pap. | I15: Cambridge University Press | J15: GB | K15: 202610 | M15: 350 p.; Worked examples or Exercises | O15: GBP | P15: 40 | Q15: 11760 | R15: 9440 | AG15: A611 | AQ15: J | BF15: J202609 | BG15: ANN202606 | BT15: 徳川政権の太平洋への進出：1600-1625年におけるハプスブルク・スペインへの働きかけ | BU15: Challenging accepted narratives of isolation and insularity, Joshua Batts reveals the surprising story of Tokugawa Japan's repeated attempts to establish direct trade with Spanish America. In this unique history of adventure and encounter, Batts redefines our understanding of the opportunities and obstacles of early modern globalization. | CB15: 337.5208 | CE15: Japan - History - Tokugawa per | CF15: Japan - Foreign economic relat | CG15: Japan - Foreign economic relat | CH15: Japan | CI15: Latin America - History - To 1
A16: 9781009624848 | C16: Nenzi, Laura | D16: Japan After Dark : The Tokugawa Transformation of the Night | G16: HRD | I16: Cambridge University Press | J16: GB | K16: 202610 | M16: 300 p.; Worked examples or Exercises | O16: GBP | P16: 35 | Q16: 10290 | R16: 8260 | AG16: A611 | AQ16: J | BF16: J202609 | BG16: ANN202606 | BT16: 夜の日本：徳川期日本の夜の変容 | BU16: Laura Nenzi draws readers into a fascinating world of samurai, shipwrecks, nocturnal monsters and partying crowds to show how the night transformed in early modern Japan. This detailed and evocative history creates a vivid picture of everyday life in the Tokugawa period, challenging readers to rethink accepted definitions of modernity. | CB16: 952.025 | CE16: Japan - Social life and custom | CF16: Japan - History - Tokugawa per | CG16: Japan
A17: 9781041060482 | C17: Perez, Samantha(EDT)/ Paul Smith, Matthew(EDT) | D17: Cross-Cultural Encounters in Early Modern Japan: Foreigners Within the Samurai Class, C. 1550-1900 (New Interdisciplinary Approaches to Early Modern Culture)" | G17: PAP | H17: pap. | I17: Routledge | J17: GB | K17: 202608 | M17: 234 p. | N17: 234mmx156mmx- | O17: GBP | P17: 43.99 | Q17: 12933 | R17: 9862 | AG17: A611 | AQ17: J | BF17: ANN202608 | BG17: J202609 | BT17: 近世日本における異文化間遭遇：武士階級と交わった外国人1550-1900年 | BU17: Recognizing the significance of cross-cultural exchange across newly established frontiers, this edited volume explores the purpose and relevance of non-Japanese individuals who operated with or within the samurai class and their role in constructing and communicating identity in early modern Japan. Topics explored include samurai and the Japanese military class; Portuguese, Dutch, and English merchants in eastern Asia; Jesuit activity in Japan; Japan’s invasions of Korea; the reopening of Japan to western contact; European travel accounts; artistic and textual representation of Japan; and the Boshin War. | CE17: Intercultural communication - | CF17: Intercultural communication - | CG17: Samurai | CH17: Visitors, Foreign - History - | CI17: Visitors, Foreign - History
A18: 9781041060499 | C18: Perez, Samantha(EDT)/ Paul Smith, Matthew(EDT) | D18: Cross-Cultural Encounters in Early Modern Japan: Foreigners within the Samurai Class, c. 1550-1900 (New Interdisciplinary Approaches to Early Modern Culture)" | G18: HRD | I18: Routledge | J18: GB | K18: 202608 | M18: 234 p. | N18: 234mmx156mmx- | O18: GBP | P18: 171.99 | Q18: 50565 | R18: 38560 | AG18: A611 | AQ18: J | BF18: J202609 | BT18: 近世日本における異文化間遭遇：武士階級と交わった外国人1550-1900年 | BU18: Recognizing the significance of cross-cultural exchange across newly established frontiers, this edited volume explores the purpose and relevance of non-Japanese individuals who operated with or within the samurai class and their role in constructing and communicating identity in early modern Japan. Topics explored include samurai and the Japanese military class; Portuguese, Dutch, and English merchants in eastern Asia; Jesuit activity in Japan; Japan’s invasions of Korea; the reopening of Japan to western contact; European travel accounts; artistic and textual representation of Japan; and the Boshin War. | CE18: Intercultural communication - | CF18: Intercultural communication - | CG18: Samurai | CH18: Visitors, Foreign - History - | CI18: Visitors, Foreign - History
A19: 9798880702244 | C19: Screech, Timon | D19: Shogun Avatar : The Worship of Tokugawa Ieyasu in Early Modern Japan | G19: HRD | I19: University of Hawai'i Press | J19: US | K19: 202611 | M19: 440 p.; 130 color & b&w illustrations | N19: 254mmx178mmx- | O19: USD | P19: 85 | Q19: 18275 | R19: 16915 | AG19: A611 | AQ19: J | BF19: J202609 | BT19: タイモン・スクリーチ著／神になった徳川家康：近世日本における将軍崇拝の形成 | BU19: Timon Screech explores the transformation of Japan’s first shogun, Tokugawa Ieyasu (1543-1616), from warlord to deity. Screech examines the theological foundations, architectural innovations, and artistic achievements of both Ieyasu’s original and final burial sites, together with their ritual and ongoing meanings. He follows Nikko’s evolution over 250 years as it became central to shogunal authority and samurai identity.
A20: 9780197781401 | C20: Azuma, Eiichiro | D20: Brokering a Race War : Japanese Americans in the Pacific War and the Occupation of Japan | G20: PAP | H20: pap. | I20: Oxford University Press | J20: GB | K20: 202606 | M20: 344 p.; 28 b&w photos | N20: 234mmx156mmx24mm | O20: GBP | P20: 18.99 | Q20: 5583 | R20: 4481 | AG20: A612 | AQ20: J | BF20: J202609 | BG20: KINOPPY | BT20: 東栄一郎（著）／日米人種戦争の仲介者：太平洋戦争と日本占領に従事した日系二世たち | BU20: This book traces the complex experiences of Nisei soldiers and civilian linguists framed in a trans-imperial context. It examines the interactions between the United States and Japan as well as Japanese Americans' complicated relationships to white Americans and Japanese nationals. Based on new bilingual archival sources, this book offers a nuanced perspective on the oft-celebratory representations of minority US servicemen as an embodiment of America's disavowal of racism and a paragon of its multicultural democracy. | CB20: 940.5373 | CE20: Japanese American soldiers - H | CF20: Japanese American soldiers | CG20: Japanese Americans - Social co | CH20: World War, 1939-1945 - Partici | CI20: Japan - History - Allied occup
A21: 9781920850579 | C21: Furukawa, Yasu | D21: Tsuda Umeko : A Gender History of Science and University in Japan(Japanese Society) | G21: PAP | H21: pap. | I21: Trans Pacific Press | J21: US | K21: 202606 | M21: 220 p. | N21: 226mmx150mmx15mm | O21: USD | P21: 39.99 | Q21: 8597 | R21: 7958 | AG21: A612 | AH21: C32 | AI21: G05 | AQ21: J | BF21: J202609 | BT21: 古川安『津田梅子：科学への道、大学の夢』（英訳） | BU21: Drawing on letters and archival materials, this book reveals how Umeko immersed herself in the emerging world of biological research, why she ultimately stepped away from research, and what her choices suggest about gender, opportunity, and ambition in her time. By reframing Umeko not only as an educator but also as a woman shaped by scientific curiosity, this work offers a fresh and compelling perspective for readers interested in women’ s history and intertwined development of science and education.
A22: 9781350344280 | C22: Nakamura, Ellen Gardner | D22: Japanese Medical Lives in Transformation : Contesting Modernity in the Late Nineteenth Century(SOAS Studies in Modern and Contemporary Japan) | G22: PAP | H22: pap. | I22: Bloomsbury Academic | J22: GB | K22: 202608 | M22: 200 p.; 10 bw illus | N22: 232mmx152mmx14mm | O22: GBP | P22: 28.99 | Q22: 8523 | R22: 6841 | AG22: A612 | AH22: G403 | AQ22: J | BF22: J202412 | BG22: SB3241H | BH22: ANN202606 | BI22: J202609 | BT22: 日本近代医学者列伝 | BU22: New in paperback. Hardcover was published in 2025. At the end of the 19th century, Japanese modernizers abandoned the traditional Chinese-style medicine that had dominated for centuries, and turned instead to Western medical theory and practice. In this book, Ellen Gardner Nakamura reconsiders the story of the adoption of Western medicine through the eyes of six medical practitioners. From the Contents: 1. Kusumoto Ine (1827-1903): From Obstetrician to Midwife; 2. Mise Shuzo (1839-1877): The Translator who knew too much; 3. Ishii Nobuyoshi (1840-1882): Civilized Gentleman; 4. Sagara Chian (1836-1906): From Bureaucrat to Fortune-Teller; 5. Asai Kokkan (1848-1903): In Defence of Chinese-style Medicine; 6. Seki Kansai (1830-1912): The Last Dutch-style Doctor. | CA22: 102 | CB22: 610.952 | CE22: Medical policy - History - 19t | CF22: Medical policy - History | CG22: Medicine - History - 19th cent | CH22: Medicine - History | CI22: Physicians - History - 19th ce
A23: 9781805266792 | C23: Orbach, Danny | D23: Punishment : Behind Japanese Military Brutality | G23: HRD | I23: C Hurst & Co Publishers Ltd | J23: US | K23: 202609 | M23: 456 p. | N23: 216mmx138mmx- | O23: GBP | P23: 30 | Q23: 8820 | R23: 8190 | AG23: A612 | AH23: D233 | AQ23: J | BF23: J202609 | BU23: A chilling exploration of how Imperial Japan framed war as justice - and how that moral logic helped unleash extraordinary brutality across Asia and the Pacific. Drawing on archival material in six languages and fieldwork conducted across Asia - from Taiwan’s indigenous highlands to Manchuria’s sorghum fields and the streets of Nanjing - Danny Orbach reveals how ambiguity, obedience, fear and ideology converged on the battlefield. | CB23: 355.00952
A24: 9780472058242 | C24: Reitan, Richard M | D24: Inner Worlds : Interiority and Capitalist Modernity in Japan(Michigan Monograph Series in Japanese Studies) | G24: PAP | H24: pap. | I24: The University of Michigan Press | J24: US | K24: 202609 | M24: 312 p.; 2 illustrations | N24: 229mmx152mmx- | O24: USD | P24: 39.95 | Q24: 8589 | R24: 7950 | AG24: A612 | AQ24: J | BF24: J202609 | BT24: 日本の近代資本主義と内面性のイデオロギー | BU24: This book examines the emergence and operation of representations of interiority-consciousness, “folk mind,” “spirit”-in Japan from its industrial revolution to the rise of fascism during the interwar period. By locating the roots of capitalism’s excesses not within the socioeconomic order itself but within a defective interiority, ideologies of interiority operated to contain disruptions to Japan’s socioeconomic order, conceal its defects, and sustain the capitalist system.
A25: 9780472078240 | C25: Reitan, Richard M | D25: Inner Worlds : Interiority and Capitalist Modernity in Japan(Michigan Monograph Series in Japanese Studies) | G25: HRD | I25: The University of Michigan Press | J25: US | K25: 202609 | M25: 312 p.; 2 illustrations | N25: 229mmx152mmx- | O25: USD | P25: 115 | Q25: 24725 | R25: 22885 | AG25: A612 | AQ25: J | BF25: J202609 | BT25: 日本の近代資本主義と内面性のイデオロギー | BU25: This book examines the emergence and operation of representations of interiority-consciousness, “folk mind,” “spirit”-in Japan from its industrial revolution to the rise of fascism during the interwar period. By locating the roots of capitalism’s excesses not within the socioeconomic order itself but within a defective interiority, ideologies of interiority operated to contain disruptions to Japan’s socioeconomic order, conceal its defects, and sustain the capitalist system.
A26: 9781324065487 | C26: Scott, James M. | D26: Empire of Ashes : Truman, Hirohito, and the Descent into Total War | G26: HRD | I26: WW Norton & Co | J26: US | K26: 202608 | M26: 528 p.; 48 illustrations | N26: 244mmx165mmx36mm | O26: USD | P26: 41.99 | Q26: 9027 | R26: 7264 | AG26: A612 | AH26: D233 | AQ26: J | BF26: J202609 | BU26: From the acclaimed Pacific War historian and Pulitzer Prize finalist, the harrowing story of America's bombings of Hiroshima and Nagasaki in the dramatic struggle to end World War II. | CA26: 102 | CB26: 940.5425 | CE26: Total war | CF26: Hiroshima-shi Japan - History | CG26: Japan - Hiroshima-shi | CH26: Japan - Nagasaki-shi | CI26: Nagasaki-shi Japan - History -
A27: 9780691271804 | C27: Tonooka, Chika | D27: Rival Civilisations : The Rise of Japan and Visions of World Order in Britain | G27: HRD | I27: Princeton University Press | J27: US | K27: 202610 | M27: 392 p.; 1 b/w illus. | N27: 235mmx156mmx- | O27: USD | P27: 42 | Q27: 9030 | R27: 7266 | AG27: A612 | AH27: D251 | AQ27: J | BF27: ANN202607 | BG27: J202609 | BT27: 近代日本の台頭と英国の世界秩序観 | BU27: Most historians of nineteenth and twentieth century Europe point to the persistence of racialised and hierarchical views of non-Europeans as “uncivilised.” Yet these accounts overlook the profound intellectual impact of what contemporaries called the “awakening of Asia.” In Rival Civilisations, Chika Tonooka shows how the rise of Japan after 1905 compelled British intellectuals to rethink fundamental questions about world order and human difference. Juxtaposing Japanese and British sources, Tonooka offers an innovative history of British Eurocentrism - its ebbs and flows and emergent pluralist alternatives - through the lens of British debates on Japan. | CB27: 303.48241
A28: 9780824898045 | C28: Blair, Heather | D28: The Gods Make You Giggle : Finding Religion in Japanese Picturebooks from the Postwar to the Postmillennial | G28: HRD | I28: University of Hawai'i Press | J28: US | K28: 202610 | M28: 328 p.; 49 color, 15 b&w illustrations | N28: 229mmx152mmx- | O28: USD | P28: 75 | Q28: 16125 | R28: 14925 | AG28: A613 | AH28: A23 | AI28: B250 | AQ28: J | BF28: ANN202609 | BG28: J202609 | BT28: 日本の絵本に宗教を見出す：戦後から２１世紀初頭まで | BU28: Incisive and fun, this book draws readers into the world of Japanese picturebooks, where the sublime can erupt from the everyday and hell may just turn out to be hilarious. Juxtaposing analyses of folksy retellings, midcentury classics, and avant-garde provocations, this study crafts dynamic new perspectives on religion and history while also showcasing the richness and sophistication of one of the world’s most vibrant children’s literatures.
A29: 9781350378476 | C29: Nakao, Maika (EDT)/ Nemoto, Masaya (EDT)/ Zwigenberg, Ran (EDT) | D29: The Inheritance" of Hiroshima and Nagasaki : Rethinking the Bombings towards a Post-Survivor World(SOAS Studies in Modern and Contemporary Japan)" | G29: PAP | H29: pap. | I29: Bloomsbury Academic | J29: GB | K29: 202610 | M29: 288 p.; 20 bw illus; 10 Maps | N29: 232mmx156mmx24mm | O29: GBP | P29: 24.99 | Q29: 7347 | R29: 5897 | AG29: A613 | AQ29: J | BF29: ANN202609 | BG29: J202609 | BT29: 中尾麻伊香・根本雅也ほか（共）編／広島・長崎の「継承」：被爆者なき時代に向けて原爆投下を再考する | BU29: An innovative exploration of the legacies of the Hiroshima and Nagasaki bombings and the contestation of memories in the two cities and beyond.
A30: 9781350378445 | C30: Nakao, Maika (EDT)/ Nemoto, Masaya (EDT)/ Zwigenberg, Ran (EDT) | D30: The Inheritance" of Hiroshima and Nagasaki : Rethinking the Bombings towards a Post-Survivor World(SOAS Studies in Modern and Contemporary Japan)" | G30: HRD | I30: Bloomsbury Academic | J30: GB | K30: 202610 | M30: 288 p.; 20 bw illus; 10 Maps | N30: 234mmx156mmx- | O30: GBP | P30: 75 | Q30: 22050 | R30: 17700 | AG30: A613 | AQ30: J | BF30: J202609 | BT30: 中尾麻伊香・根本雅也ほか（共）編／広島・長崎の「継承」：被爆者なき時代に向けて原爆投下を再考する | BU30: An innovative exploration of the legacies of the Hiroshima and Nagasaki bombings and the contestation of memories in the two cities and beyond.
A31: 9781541607675 | C31: Rankin, Andrew | D31: Yakuza : A 400-Year History of the Japanese Underworld | G31: HRD | I31: Basic Books | J31: US | K31: 202609 | M31: 400 p. | N31: 244mmx148mmx38mm | O31: USD | P31: 32 | Q31: 6880 | R31: 6368 | AG31: A613 | AH31: C160 | AQ31: J | BF31: J202609 | BT31: ヤクザ：日本の裏社会の400年史 | BU31: The definitive history of Japanese organized crime, from its origins in samurai-era black markets and gambling rings to the shadowy syndicates of the present. | CA31: 102
A32: 9798880702039 | C32: Schrade, Anna | D32: Give Us Our Blue Skies Back : Housewives, Science, and the Struggle for Environmental Justice in Postwar Japan, 1950-1969 | G32: HRD | I32: University of Hawai'i Press | J32: US | K32: 202609 | M32: 276 p.; 10 b&w illustrations | N32: 229mmx152mmx- | O32: USD | P32: 75 | Q32: 16125 | R32: 14925 | AG32: A613 | AH32: C144 | AI32: C60 | AQ32: J | BF32: J202609 | BT32: 青い空を私たちに返して：戸畑婦人会の環境正義運動1950-1969年 | BU32: This book traces one of Japan’s earliest and most enduring environmental movements, led by the Tobata Ward Collaborative Women’s Association in Kitakyushu from 1950 to 1969. Through an oral history approach rooted in Alltagsgeschichte (the history of everyday life), it reveals how Tobata’s women forged a path of nonconfrontational yet transformative activism, combining domestic life with civic engagement, science with social justice.
A33: 9781041321187 | C33: Jin, Zhixia | D33: Dual-track Diplomacy : China's Strategic Balance between Japan and the Soviet Union, 1931-1937 | G33: HRD | I33: Routledge | J33: GB | K33: 202609 | M33: 196 p. | O33: GBP | P33: 171.99 | Q33: 50565 | R33: 38560 | AG33: A622 | AH33: D252 | AQ33: J | BF33: J202609 | BT33: 二軌外交：日中戦争前の中国の対日ソ関係にみる戦略的バランス1931-1937年 | BU33: Between 1931 and 1937, Nationalist China was caught between Japanese imperial expansion and the unpredictable intentions of the Soviet Union, facing an increasingly hostile external environment. This book reconstructs how China navigated this precarious situation through a sophisticated strategy known as 'dual-track diplomacy'. | CB33: 327.51009 | CE33: China - History - 1928-1937 | CF33: China - Foreign relations - Ja | CG33: China - Foreign relations - So | CH33: China | CI33: Japan - Foreign relations - Ch
A34: 9780300284324 | C34: Stephens, Holly | D34: Empire by Association : Agriculture and the Reorganization of the Rural Economy in Colonial Korea(Yale Agrarian Studies Series) | G34: HRD | I34: Yale University Press | J34: US | K34: 202611 | M34: 320 p.; 18 b-w illus. | N34: 235mmx156mmx- | O34: USD | P34: 85 | Q34: 18275 | R34: 14705 | AG34: A622 | AH34: E192 | AQ34: J | BF34: J202609 | BT34: 日本植民地支配下の朝鮮における農業と経済の近代化 | BU34: Drawing on the diaries of everyday farmers, Holly Stephens examines the introduction of scientific and commercial agriculture in Korea from the late nineteenth century through liberation from Japanese rule in 1945. To demonstrate how the colonial infrastructure of scientific agriculture was experienced and interpreted by ordinary farmers, Stephens traces the implementation of colonial agricultural policies through a series of semi-governmental associations, which were the main agents of the colonial state in the rural economy.
A35: 9789819593095 | C35: Wang, Feng | D35: From Chinese Characters to Sinographic Scripts : A Study of Writing Systems in the Sinosphere | G35: HRD | I35: Springer | J35: DE | K35: 202608 | M35: 344 p. | O35: EUR | P35: 129.99 | Q35: 32497 | R35: 24037 | AG35: B102 | AQ35: J | BF35: KINOPPY | BG35: J202609 | BT35: 漢字の研究 | BU35: This book conducts an in-depth exploration of the dissemination of Chinese characters in East Asia and the formation and development of Chinese character-based writing systems, emphasizing the unique contributions of various ethnic groups within the Chinese character cultural sphere to the evolution of Chinese characters. Based on historical research and cross-cultural comparison, this book offers a comprehensive and insightful perspective, revealing the developmental laws and cultural attributes of Chinese character-based writing systems in East Asia.
A36: 9781041123767 | C36: Asad, Talal(EDT)/ Isomae, Jun'ichi(EDT)/ Sakai, Naoki(EDT) | D36: Beyond the Untranslatable: Theorizing Postcolonial Translation (Creative, Social and Transnational Perspectives on Translation)" | G36: HRD | I36: Routledge | J36: GB | K36: 202608 | M36: 248 p. | N36: 234mmx156mmx- | O36: GBP | P36: 171.99 | Q36: 50565 | R36: 38560 | AG36: B103 | AH36: B201 | AQ36: J | BF36: J202609 | BT36: 磯前順一・酒井直樹ほか共編／翻訳不可能性を超えて：ポストコロニアル翻訳論（スピヴァク寄稿） | BU36: This collection examines postcolonial studies through the lens of translation studies, focusing on Asian and East Asian experiences. It redefines translation as a process of negotiating Otherness with language at its core. Following Talal Asad and Gayatri Chakravorty Spivak’s critique, the book shifts from subjectivity to subjectivation, arguing that subjects exist in reciprocal relationships with Others.From the Contents: 3. How to Count Languages; How to Classify Humanity (Naoki Sakai); 4. What Is It to Be Secular? (Gayatri Chakravorty Spivak); 5. Settler-Colonial Translation: “Civilization” and the Ainu Voice (Katsuya Hirano) | CE36: Other Philosophy | CF36: Translating and interpreting - | CG36: Translating and interpreting - | CH36: Translating and interpreting - | CI36: Translating and interpreting
A37: 9781032170732 | C37: Meade, Ruselle (EDT)/ Shih, Claire (EDT)/ Kim, Kyung Hye (EDT) | D37: Routledge Handbook of East Asian Translation(Routledge Studies in East Asian Translation) | G37: PAP | H37: pap. | I37: Routledge | J37: GB | K37: 202606 | M37: 394 p. | O37: GBP | P37: 53.99 | Q37: 15873 | R37: 12104 | AG37: B103 | AQ37: G | AR37: Q | AS37: J | BF37: ANN202607 | BG37: J202406 | BH37: J202609 | BI37: TF24Q4S1 | BJ37: SB3281 | BK37: SB3245 | BL37: NA6327 | BM37: SB3256 | BN37: NA6331 | BO37: NA6347 | BP37: NA6297 | BT37: ラウトレッジ版 東アジア翻訳ハンドブック | BU37: 日本を含む東アジアにおける翻訳の実践の諸相に迫る全25章。「在日文学」「日本語内翻訳の技術とパラテクスト要素」「日本の翻訳史における漢文訓読」「中国仏教書の日本語民間注釈」「日本のコミュニティ通訳の現状と問題」などの章を含む。 New in paperback. Hardcover was published in 2024. A wide variety of translatorial practices are discussed, including the creative use of Chinese in Japanese-language novels, the use of translation to evade censorship online, community theatre translation, and translation of picture books. From the Contents: 8. Zainichi (Koreans in Japan) Literature; 11. Beyond Rewording: Translation Techniques and Paratextual Elements in Japanese Intralingual Translations; 21. Professional Interpreters and Translators in Early Modern Japan; 22. European Languages through Sino-Japanese Looking Glasses - bun kundoku in Japanese Translation History; 23. Japanese Vernacular Glossing of Sinitic Buddhist Texts; 24. Current Status and Issues of Community Interpreting in Japan. | CB37: 418.02095 | CE37: East Asian literature - Transl | CF37: East Asian literature | CG37: Translating and interpreting - | CH37: Translating and interpreting | CI37: East Asia
A38: 9783032307125 | C38: Lue, Chan (EDT)/ Li, Xiaomeng (EDT)/ Ke, Sihui Echo (EDT) | D38: Advances in Second Language Reading and Cross-linguistic Transfer : In Honor of Keiko Koda(Second Language Learning and Teaching) | G38: HRD | I38: Springer | J38: DE | K38: 202609 | M38: 298 p. | O38: EUR | P38: 149.99 | Q38: 37497 | R38: 27736 | AG38: B104 | AQ38: J | BF38: J202609 | BT38: 第二言語読解と言語間転移の最前線：甲田慶子記念論文集 | BU38: This book celebrates the remarkable contributions of Dr Keiko Koda, a leader in second language (L2) acquisition and reading development, who retired from Carnegie Mellon University in 2024. The chapters in this volume explore recent theoretical developments and practical applications in L2 reading research from a cross-linguistic perspective. | CC38: KNO5610
A39: 9781032628622 | C39: Masuda, Kyoko/ Snyder Ohta, Amy/ Tsujihara, Rie | D39: Concept-based Language Instruction : Usage-based Linguistics and Sociocultural Theory in Teaching Japanese (Routledge Studies in Applied Linguistics) | G39: PAP | H39: pap. | I39: Routledge | J39: GB | K39: 202605 | M39: 312 p.; 40 Illustrations, black and white 18 Halftones, bl | O39: GBP | P39: 47.99 | Q39: 14109 | R39: 10759 | AG39: B150 | AQ39: J | BF39: SB3242C | BG39: TF25Q2S1 | BH39: J202503 | BI39: SB3256 | BJ39: ANN202607 | BK39: J202609 | BT39: 日本語教育のための用法基盤言語学と社会文化理論 | BU39: New in paperback. Hardcover was published in 2025. This volume showcases how concept-based language instruction (C-BLI) can be effectively integrated into foreign language instruction. C-BLI is grounded in the relationship between theory, research, and practice, incorporating visual aids called SCOBAs (schemas for a complete orientating basis of action) designed to teach accurate scientific concepts. SCOBAs materialize L2 usage-based linguistic and cultural concepts to create tools that promote conceptual understanding and internalization. | CB39: 495.6071 | CE39: Japanese language - Study and | CF39: Second language acquisition - | CG39: Sociolinguistics
A40: 9783032278975 | C40: Marinaro, Salvador (EDT) | D40: Cultural Crosscurrents from Latin America to Asia(Historical and Cultural Interconnections between Latin America and Asia) | G40: HRD | I40: Palgrave Macmillan | J40: DE | K40: 202607 | M40: 140 p.; XX, 140 p. | O40: EUR | P40: 149.99 | Q40: 37497 | R40: 27736 | AG40: B202 | AH40: A60 | AI40: A52 | AQ40: J | BF40: J202609 | BT40: 東アジアとラテンアメリカの文化交流 | BU40: This book explores the interactions between two regions marginalized by the Eurocentric worldview: East Asia and Latin America. From the Contents: Chapter 4: Japanese Prints and Nikkei Poetry: Doris Moromisato and the Floating World; Chapter 6: Kokoro across Continents: Araceli Tinajero's Journey of Cultural Identity in Japan. | CC40: KNO7490
...

Sheet BWPリンク生成
A1: URL前半 | B1: https://pro.kinokuniya.co.jp/search_detail/product?search_detail_called=1&table_kbn=E&exp_id=
A2: ISBN | B2: URL
A3: =アナメン詳細!A2 -> 9780241839270 | B3: =CONCATENATE($B$1,A3) -> https://pro.kinokuniya.co.jp/search_detail/product?search_detail_called=1&table_kbn=E&exp_id=9780241839270
A4: =アナメン詳細!A3 -> 9789004769724 | B4: =CONCATENATE($B$1,A4) -> https://pro.kinokuniya.co.jp/search_detail/product?search_detail_called=1&table_kbn=E&exp_id=9789004769724
A5: =アナメン詳細!A4 -> 9781041278696 | B5: =CONCATENATE($B$1,A5) -> https://pro.kinokuniya.co.jp/search_detail/product?search_detail_called=1&table_kbn=E&exp_id=9781041278696
A6: =アナメン詳細!A5 -> 9783032307163 | B6: =CONCATENATE($B$1,A6) -> https://pro.kinokuniya.co.jp/search_detail/product?search_detail_called=1&table_kbn=E&exp_id=9783032307163
A7: =アナメン詳細!A6 -> 9781350557512 | B7: =CONCATENATE($B$1,A7) -> https://pro.kinokuniya.co.jp/search_detail/product?search_detail_called=1&table_kbn=E&exp_id=9781350557512
A8: =アナメン詳細!A7 -> 9781032588759 | B8: =CONCATENATE($B$1,A8) -> https://pro.kinokuniya.co.jp/search_detail/product?search_detail_called=1&table_kbn=E&exp_id=9781032588759
A9: =アナメン詳細!A8 -> 9781350640979 | B9: =CONCATENATE($B$1,A9) -> https://pro.kinokuniya.co.jp/search_detail/product?search_detail_called=1&table_kbn=E&exp_id=9781350640979
A10: =アナメン詳細!A9 -> 9781041279037 | B10: =CONCATENATE($B$1,A10) -> https://pro.kinokuniya.co.jp/search_detail/product?search_detail_called=1&table_kbn=E&exp_id=9781041279037
A11: =アナメン詳細!A10 -> 9781803514260 | B11: =CONCATENATE($B$1,A11) -> https://pro.kinokuniya.co.jp/search_detail/product?search_detail_called=1&table_kbn=E&exp_id=9781803514260
A12: =アナメン詳細!A11 -> 9783032253750 | B12: =CONCATENATE($B$1,A12) -> https://pro.kinokuniya.co.jp/search_detail/product?search_detail_called=1&table_kbn=E&exp_id=9783032253750
A13: =アナメン詳細!A12 -> 9798880702732 | B13: =CONCATENATE($B$1,A13) -> https://pro.kinokuniya.co.jp/search_detail/product?search_detail_called=1&table_kbn=E&exp_id=9798880702732
A14: =アナメン詳細!A13 -> 9781041184171 | B14: =CONCATENATE($B$1,A14) -> https://pro.kinokuniya.co.jp/search_detail/product?search_detail_called=1&table_kbn=E&exp_id=9781041184171
... A127: =アナメン詳細!A126 -> 9789819224470 | B127: =CONCATENATE($B$1,A127) -> https://pro.kinokuniya.co.jp/search_detail/product?search_detail_called=1&table_kbn=E&exp_id=9789819224470
A128: =アナメン詳細!A1689 -> 0
A129: =アナメン詳細!A1690 -> 0
A130: =アナメン詳細!A1691 -> 0
A131: =アナメン詳細!A1692 -> 0
A132: =アナメン詳細!A1693 -> 0
A133: =アナメン詳細!A1694 -> 0
A134: =アナメン詳細!A1695 -> 0
A135: =アナメン詳細!A1696 -> 0
A136: =アナメン詳細!A1697 -> 0
A137: =アナメン詳細!A1698 -> 0
A138: =アナメン詳細!A1699 -> 0
A139: =アナメン詳細!A1700 -> 0
... A469: =アナメン詳細!A2030 -> 0

Sheet KDC
A1: A | B1: 哲学・宗教・歴史地理・地域文化 | C1: Philosophy, Religion & History
A2: A0 | B2: 総記 | C2: GENERALITIES
A3: A00 | B3: 学術・文化一般 | C3: Scholarship & Culture in General
A4: A01 | B4: 書物の歴史・文化 | C4: Book History & Culture
A5: A02 | B5: 書誌 | C5: Bibliography
A6: A03 | B6: 図書館学・情報科学 | C6: Library & Information Science
A7: A04 | B7: 博物館学・文化資源学 | C7: Museology & Cultural Resource
A8: A05 | B8: 百科事典・レファレンス | C8: Encyclopedias & References
A9: A06 | B9: 人名事典・ダイレクトリー | C9: Biographical Dic. & Directory
A10: A07 | B10: 出版・メディア | C10: Publishing & Media
A11: A08 | B11: 統計・年鑑 | C11: Statistics & Yearbook
A12: A09 | B12: スタディガイド他 | C12: Study Guides & Others
... A736: G95 | B736: フィットネス・健康・家庭の医学 | C736: Fitness, Health & Family Medicine
A737: HRD | B737: ハードカバー
A738: PAP | B738: ペーパーバック
A739: 0
